BEGIN:VCALENDAR
VERSION:2.0
PRODID:-//ChamberMaster//Event Calendar 2.0//EN
METHOD:PUBLISH
X-PUBLISHED-TTL:P3D
REFRESH-INTERVAL:P3D
CALSCALE:GREGORIAN
BEGIN:VEVENT
DTSTART:20231202T140000Z
DTEND:20231202T180000Z
X-MICROSOFT-CDO-ALLDAYEVENT:FALSE
SUMMARY:Arlington Heights Winter Window Painting 2023
DESCRIPTION:Winter images of snowmen\, polar bears\, people at winter play and more will brighten storefront windows in Arlington Heights on Saturday\, December 2nd from 9:00am to 1:00pm. Rain date\, Sunday\, December 3rd\, 9:00am-1:00pm. Paint a window by yourself or grab your friend or parent and paint a window together in 60+ designated storefront windows in 25 Heights businesses. Paintings will remain on display through January and will be a feature highlight in the third annual Heights Holiday Stroll on Saturday\, December 9\, 2-5pm.\n\nOnline Registration: Saturday\, November 4 - Saturday\, November 18 (2 weeks)\n\nEntries are accepted on a first come-first served basis. Space is guaranteed to the first 62 entries. Registration closes when slots are all filled. After the registration closing date painters will be emailed their window assignment\, a rules and information flyer\, and a list of window painting supplies and tips.\n\nA $25 registration fee covers paint supplies (an assortment of selected acrylic paints and paint brushes which will be supplied to painters the day of the event).\n\nEligibility: All residents who attend any school in Arlington or reside in Arlington are eligible for this event. Painters under age 12 must be accompanied by an adult.\n\nThis event is organized by the Arlington Heights Community Association (ACHA) in partnership with the Arlington Chamber of Commerce\, and the Arlington Commission for Arts and Culture.\n\nThe Arlington Heights Community Association (AHCA) is a group of Heights business owners\, residents\, and non-profits who meet monthly to address local issues and concerns\, support beautification projects\, and organize public events in the Heights such as three seasonal window paintings\, the Holiday Stroll and the Spring Fling Festival. Meetings take place on the third Thursday morning of every month. If you are interested in attending a meeting\, volunteering at an event\, or making a donation to support our activities\, please contact Janet O'Riordan\, joriordan@comcast.net.
X-ALT-DESC;FMTTYPE=text/html:<div class="styles_HTMLContent__6IqYK" font-size:="" line-height:="" new="" padding-left:="" padding-right:="" style="box-sizing: border-box\; margin: 0px\; text-size-adjust: 100%\; -webkit-font-smoothing: antialiased\; color: rgb(17\, 17\, 17)\; font-family: Merriweather\, Georgia\, " times="" word-break:="">\n<p dir="ltr" style="line-height:1.2\;margin-top:0pt\;margin-bottom:15pt\;"><span style="font-size:16px\;"><span style="font-family:arial\;"><span id="docs-internal-guid-db8ac32a-7fff-9f65-7ac3-8ea8ec6fdfa7"><span style="font-variant-numeric: normal\; font-variant-east-asian: normal\; font-variant-alternates: normal\; font-variant-position: normal\; vertical-align: baseline\; white-space-collapse: preserve\;">Winter images of snowmen\, polar bears\, people at winter play and more will brighten storefront windows in Arlington Heights on Saturday\, December 2</span><span style="font-variant-numeric: normal\; font-variant-east-asian: normal\; font-variant-alternates: normal\; font-variant-position: normal\; vertical-align: baseline\; white-space-collapse: preserve\;"><span style="vertical-align: super\;">nd</span></span><span style="font-variant-numeric: normal\; font-variant-east-asian: normal\; font-variant-alternates: normal\; font-variant-position: normal\; vertical-align: baseline\; white-space-collapse: preserve\;"> from 9:00am to 1:00pm. Rain date\, Sunday\, December 3rd\, 9:00am-1:00pm. Paint a window by yourself or grab your friend or parent and paint a window together in 60+ designated storefront windows in 25 Heights businesses. Paintings will remain on display through January and will be a feature highlight in the third annual Heights Holiday Stroll on Saturday\, December 9\, 2-5pm.</span></span></span></span></p>\n\n<p dir="ltr" style="line-height:1.2\;margin-top:0pt\;margin-bottom:15pt\;"><span style="font-size:16px\;"><span style="font-family:arial\;"><span id="docs-internal-guid-db8ac32a-7fff-9f65-7ac3-8ea8ec6fdfa7"><span style="color: rgb(17\, 17\, 17)\; font-variant-numeric: normal\; font-variant-east-asian: normal\; font-variant-alternates: normal\; font-variant-position: normal\; vertical-align: baseline\; white-space-collapse: preserve\;">Online Registration: Saturday\, November 4 - Saturday\, November 18 (2 weeks)</span></span></span></span></p>\n\n<p dir="ltr" style="line-height:1.2\;margin-top:0pt\;margin-bottom:15pt\;"><span style="font-size:16px\;"><span style="font-family:arial\;"><span id="docs-internal-guid-db8ac32a-7fff-9f65-7ac3-8ea8ec6fdfa7"><span style="color: rgb(17\, 17\, 17)\; font-variant-numeric: normal\; font-variant-east-asian: normal\; font-variant-alternates: normal\; font-variant-position: normal\; vertical-align: baseline\; white-space-collapse: preserve\;">Entries are accepted on a first come-first served basis. </span><span style="font-variant-numeric: normal\; font-variant-east-asian: normal\; font-variant-alternates: normal\; font-variant-position: normal\; vertical-align: baseline\; white-space-collapse: preserve\;">Space is guaranteed to the first 62 entries. Registration closes when slots are all filled</span><span style="color: rgb(17\, 17\, 17)\; font-variant-numeric: normal\; font-variant-east-asian: normal\; font-variant-alternates: normal\; font-variant-position: normal\; vertical-align: baseline\; white-space-collapse: preserve\;">. </span><span style="color: rgb(17\, 17\, 17)\; font-weight: 700\; font-variant-numeric: normal\; font-variant-east-asian: normal\; font-variant-alternates: normal\; font-variant-position: normal\; vertical-align: baseline\; white-space-collapse: preserve\;">After the registration closing date painters will be emailed their</span><span style="color: rgb(17\, 17\, 17)\; font-variant-numeric: normal\; font-variant-east-asian: normal\; font-variant-alternates: normal\; font-variant-position: normal\; vertical-align: baseline\; white-space-collapse: preserve\;"> </span><span style="color: rgb(17\, 17\, 17)\; font-weight: 700\; font-variant-numeric: normal\; font-variant-east-asian: normal\; font-variant-alternates: normal\; font-variant-position: normal\; vertical-align: baseline\; white-space-collapse: preserve\;">window assignment\, a rules and information flyer\, and a list of window painting supplies and tips.</span></span></span></span></p>\n\n<p dir="ltr" style="line-height:1.2\;margin-top:0pt\;margin-bottom:15pt\;"><span style="font-size:16px\;"><span style="font-family:arial\;"><span id="docs-internal-guid-db8ac32a-7fff-9f65-7ac3-8ea8ec6fdfa7"><span style="color: rgb(17\, 17\, 17)\; font-variant-numeric: normal\; font-variant-east-asian: normal\; font-variant-alternates: normal\; font-variant-position: normal\; vertical-align: baseline\; white-space-collapse: preserve\;">A $25 registration fee covers paint supplies (an assortment of selected acrylic paints and paint brushes which will be supplied to painters the day of the event).</span></span></span></span></p>\n\n<p dir="ltr" style="line-height:1.2\;margin-top:0pt\;margin-bottom:15pt\;"><span style="font-size:16px\;"><span style="font-family:arial\;"><span id="docs-internal-guid-db8ac32a-7fff-9f65-7ac3-8ea8ec6fdfa7"><span style="font-variant-numeric: normal\; font-variant-east-asian: normal\; font-variant-alternates: normal\; font-variant-position: normal\; vertical-align: baseline\; white-space-collapse: preserve\;">Eligibility: All residents who attend any school in Arlington or reside in Arlington&nbsp\;are eligible for this event. Painters under age 12 must be accompanied by an adult.</span></span></span></span></p>\n\n<p dir="ltr" style="line-height:1.2\;margin-top:0pt\;margin-bottom:15pt\;"><span style="font-size:16px\;"><span style="font-family:arial\;"><span id="docs-internal-guid-db8ac32a-7fff-9f65-7ac3-8ea8ec6fdfa7"><span style="font-variant-numeric: normal\; font-variant-east-asian: normal\; font-variant-alternates: normal\; font-variant-position: normal\; vertical-align: baseline\; white-space-collapse: preserve\;">This event is organized by the Arlington Heights Community Association (ACHA) in partnership with the Arlington Chamber of Commerce\, and the Arlington Commission for Arts and Culture.</span></span></span></span></p>\n\n<p dir="ltr" style="line-height:1.2\;margin-top:0pt\;margin-bottom:0pt\;"><span style="font-size:16px\;"><span style="font-family:arial\;"><span id="docs-internal-guid-db8ac32a-7fff-9f65-7ac3-8ea8ec6fdfa7"><span style="color: rgb(26\, 26\, 26)\; font-variant-numeric: normal\; font-variant-east-asian: normal\; font-variant-alternates: normal\; font-variant-position: normal\; vertical-align: baseline\; white-space-collapse: preserve\;">The Arlington Heights Community Association (AHCA) is a group of Heights business owners\, residents\, and non-profits who meet monthly to address local issues and concerns\, support beautification projects\, and organize public events in the Heights such as three seasonal window paintings\, the Holiday Stroll and the Spring Fling Festival. </span><span style="font-variant-numeric: normal\; font-variant-east-asian: normal\; font-variant-alternates: normal\; font-variant-position: normal\; vertical-align: baseline\; white-space-collapse: preserve\;">Meetings take place on the third Thursday morning of every month. </span><span style="color: rgb(34\, 34\, 34)\; font-variant-numeric: normal\; font-variant-east-asian: normal\; font-variant-alternates: normal\; font-variant-position: normal\; vertical-align: baseline\; white-space-collapse: preserve\;">If you are interested in attending a meeting\, volunteering at an event\, or making a donation to support our activities\, please contact Janet O&rsquo\;Riordan\, </span><a href="mailto:joriordan@comcast.net" style="text-decoration-line: none\;"><span style="color: rgb(0\, 0\, 255)\; font-variant-numeric: normal\; font-variant-east-asian: normal\; font-variant-alternates: normal\; font-variant-position: normal\; text-decoration-line: underline\; text-decoration-skip-ink: none\; vertical-align: baseline\; white-space-collapse: preserve\;">joriordan@comcast.net</span></a><span style="font-variant-numeric: normal\; font-variant-east-asian: normal\; font-variant-alternates: normal\; font-variant-position: normal\; vertical-align: baseline\; white-space-collapse: preserve\;">.</span></span></span></span></p>\n\n<div>&nbsp\;</div>\n</div>\n
LOCATION:Arlington Heights
UID:e.1685.4313
SEQUENCE:3
DTSTAMP:20260424T114057Z
URL:https://business.arlcc.org/events/details/arlington-heights-winter-window-painting-2023-4313
END:VEVENT

END:VCALENDAR
