BEGIN:VCALENDAR
VERSION:2.0
PRODID:-//ChamberMaster//Event Calendar 2.0//EN
METHOD:PUBLISH
X-PUBLISHED-TTL:P3D
REFRESH-INTERVAL:P3D
CALSCALE:GREGORIAN
BEGIN:VEVENT
DTSTART:20260216T140000Z
DTEND:20260216T140000Z
X-MICROSOFT-CDO-ALLDAYEVENT:FALSE
SUMMARY:February Vacation Camp
DESCRIPTION:Rock 101 February Vacation Camp is a one-week immersive program designed for beginner students with little to no playing experience. Running daily from 9:00 am to 3:00 pm during February Vacation week\, students will build basic skills on their chosen instrument in a supportive\, low-stakes environment while learning how to play music as part of a band. Throughout the week\, campers will work together on songs\, develop confidence\, and experience what it is like to rehearse and perform with others. The week culminates in a small in-house performance where students can share what they have learned with family and friends.
X-ALT-DESC;FMTTYPE=text/html:<strong>Rock 101 February Vacation Camp</strong> is a one-week immersive program designed for beginner students with little to no playing experience. Running daily from 9:00 am to 3:00 pm during February Vacation week\, students will build basic skills on their chosen instrument in a supportive\, low-stakes environment while learning how to play music as part of a band. Throughout the week\, campers will work together on songs\, develop confidence\, and experience what it is like to rehearse and perform with others. The week culminates in a small in-house performance where students can share what they have learned with family and friends.
LOCATION:Wellington Circle Plaza 616 Fellsway 2nd Floor Medford\, MA 02155
UID:e.1685.4864
SEQUENCE:3
DTSTAMP:20260421T082924Z
URL:https://business.arlcc.org/events/details/february-vacation-camp-4864
END:VEVENT

END:VCALENDAR
