BEGIN:VCALENDAR
VERSION:2.0
PRODID:-//ChamberMaster//Event Calendar 2.0//EN
METHOD:PUBLISH
X-PUBLISHED-TTL:P3D
REFRESH-INTERVAL:P3D
CALSCALE:GREGORIAN
BEGIN:VEVENT
DTSTART:20260116T140000Z
DTEND:20260116T150000Z
X-MICROSOFT-CDO-ALLDAYEVENT:FALSE
SUMMARY:How to Use the 5 Profit Drivers to Drive Sales and Grow Your Business to the Next Level in 2026
DESCRIPTION:How to Use the 5 Profit Drivers to Drive Sales and Grow Your Business to the Next Level in 2026\n\n\n\nOn Friday\, January 16\, 2026\, at 9:00 am At Workbar Arlington\, 1167 Mass. Ave.\, Arlington\, MA\n\n \n\nAt this seminar you'll get lots of marketing and sales ideas you can use to grow your business.\n\n\n\nFor more details or to register go to: \n\nROI Business Advisors | Breaking Business Barriers Registration \n\nOr call: 203.927.0947 to register\n\n\n\nNetworking prior to the one hour seminar at Workbar Arlington.
X-ALT-DESC;FMTTYPE=text/html:<span style="font-size:18px\;"><strong>How to Use the 5 Profit Drivers to&nbsp\;Drive Sales and Grow Your Business to the Next Level in 2026</strong></span><br />\n<br />\n<strong>On Friday\, January 16\, 2026\, at 9:00 am At Workbar Arlington\, 1167 Mass. Ave.\, Arlington\, MA<br />\n&nbsp\;</strong><br />\nAt this seminar you&rsquo\;ll get lots of marketing and sales ideas you can use to grow your business.<br />\n<br />\n<strong>For more details or to register go to:&nbsp\;</strong><br />\nROI Business Advisors | Breaking Business Barriers Registration&nbsp\;<br />\nOr call: 203.927.0947 to register<br />\n<br />\nNetworking prior to the one hour seminar at Workbar Arlington.
LOCATION:
UID:e.1685.4863
SEQUENCE:3
DTSTAMP:20260421T101251Z
URL:https://business.arlcc.org/events/details/how-to-use-the-5-profit-drivers-to-drive-sales-and-grow-your-business-to-the-next-level-in-2026-4863
END:VEVENT

END:VCALENDAR
